BEGIN:VCALENDAR
VERSION:2.0
PRODID:-//Devpost\, Inc.//Kindly labs weekly hackathon//EN
CALSCALE:GREGORIAN
BEGIN:VTIMEZONE
TZID:America/New_York
BEGIN:DAYLIGHT
DTSTART:20260308T030000
TZOFFSETFROM:-0500
TZOFFSETTO:-0400
RRULE:FREQ=YEARLY;BYDAY=2SU;BYMONTH=3
TZNAME:EDT
END:DAYLIGHT
BEGIN:STANDARD
DTSTART:20261101T010000
TZOFFSETFROM:-0400
TZOFFSETTO:-0500
RRULE:FREQ=YEARLY;BYDAY=1SU;BYMONTH=11
TZNAME:EST
END:STANDARD
END:VTIMEZONE
BEGIN:VEVENT
DTSTAMP:20260421T040814Z
UID:282020a7-7773-4f4e-b26e-17e66d9f7d1f
DTSTART;TZID=America/New_York:20260425T170000
DTEND;TZID=America/New_York:20260425T170000
DESCRIPTION:https://kindly-labs-weekly-hackathon.devpost.com/
SUMMARY:Kindly labs weekly hackathon submission deadline
BEGIN:VALARM
ACTION:DISPLAY
TRIGGER:-P7D
SUMMARY:Just 7 left days until the submission deadline!
END:VALARM
END:VEVENT
END:VCALENDAR
